BEGIN:VCALENDAR
VERSION:2.0
PRODID:-//ChamberMaster//Event Calendar 2.0//EN
METHOD:PUBLISH
X-PUBLISHED-TTL:P3D
REFRESH-INTERVAL:P3D
CALSCALE:GREGORIAN
BEGIN:VEVENT
DTSTART:20181004T223000Z
DTEND:20181102T000000Z
X-MICROSOFT-CDO-ALLDAYEVENT:FALSE
SUMMARY:4-H Vet Science Program
DESCRIPTION:Do you know youth who are interested in becoming a veterinarian or a vet tech? This is the perfect program for them! Learn all about what it takes to enter the veterinarian field! Learn from the experts in the field! SPACE IS LIMITED AND REGISTRATION IS REQUIRED!
X-ALT-DESC;FMTTYPE=text/html:Do you know youth who are interested in becoming a veterinarian or a vet tech? This is the perfect program for them! Learn all about what it takes to enter the veterinarian field! Learn from the experts in the field! SPACE IS LIMITED AND REGISTRATION IS REQUIRED!
LOCATION:Cornell Cooperative Extension of Jefferson County 203 North Hamilton Street Watertown\, NY 13601
UID:e.1171.9397
SEQUENCE:3
DTSTAMP:20260421T115932Z
URL:http://business.watertownny.com/events/details/4-h-vet-science-program-9397
END:VEVENT

END:VCALENDAR
