BEGIN:VCALENDAR
VERSION:2.0
PRODID:-//ChamberMaster//Event Calendar 2.0//EN
METHOD:PUBLISH
X-PUBLISHED-TTL:P3D
REFRESH-INTERVAL:P3D
CALSCALE:GREGORIAN
BEGIN:VEVENT
DTSTART:20190920T130000Z
DTEND:20190921T200000Z
X-MICROSOFT-CDO-ALLDAYEVENT:FALSE
SUMMARY:ACBS International Boat Show
DESCRIPTION:Alexandria Bay\, NY will host the 2019 Antique and Classic Boat Society International Boat Show September 20-21\, 2019. The Alex Bay Chamber will sponsor a fireworks display at 8:30pm on Friday\, September 20th. The boat show and fireworks display is free and open to the public. The boat show will feature more than 125 classic boats (1920s-1970s)\, a special hyrdoplane race boat display and vendor area.
X-ALT-DESC;FMTTYPE=text/html:Alexandria Bay\, NY will host the 2019 Antique and Classic Boat Society International Boat Show September 20-21\, 2019. The Alex Bay Chamber will sponsor a fireworks display at 8:30pm on Friday\, September 20th. The boat show and fireworks display is free and open to the public. The boat show will feature more than 125 classic boats (1920s-1970s)\, a special hyrdoplane race boat display and vendor area.
LOCATION:Alexandria Bay\, NY
UID:e.1171.9802
SEQUENCE:3
DTSTAMP:20260425T165524Z
URL:http://business.watertownny.com/events/details/acbs-international-boat-show-9802
END:VEVENT

END:VCALENDAR
