BEGIN:VCALENDAR
VERSION:2.0
PRODID:-//ChamberMaster//Event Calendar 2.0//EN
METHOD:PUBLISH
X-PUBLISHED-TTL:P3D
REFRESH-INTERVAL:P3D
CALSCALE:GREGORIAN
BEGIN:VEVENT
DTSTART:20230615T190000Z
DTEND:20230615T230000Z
X-MICROSOFT-CDO-ALLDAYEVENT:FALSE
SUMMARY:Croghan Street Fair
DESCRIPTION:Homemade and homegrown! Come to Croghan and enjoy a community-driven event that will feature dozens of vendors\, live music\, food trucks\, fun for the kids and much more!
X-ALT-DESC;FMTTYPE=text/html:Homemade and homegrown! Come to Croghan and enjoy a community-driven event that will feature dozens of vendors\, live music\, food trucks\, fun for the kids and much more!
LOCATION:St. Stephen's Front Lawn 9748 State Route 812 Croghan\, NY 13327
UID:e.1171.11281
SEQUENCE:3
DTSTAMP:20260419T221204Z
URL:http://business.watertownny.com/events/details/croghan-street-fair-06-15-2023-11281
END:VEVENT

END:VCALENDAR
