BEGIN:VCALENDAR
VERSION:2.0
PRODID:-//ChamberMaster//Event Calendar 2.0//EN
METHOD:PUBLISH
X-PUBLISHED-TTL:P3D
REFRESH-INTERVAL:P3D
CALSCALE:GREGORIAN
BEGIN:VEVENT
DTSTART:20210724T170000Z
DTEND:20210724T210000Z
X-MICROSOFT-CDO-ALLDAYEVENT:FALSE
SUMMARY:Depauville United Methodist Church - Strawberry Festival
DESCRIPTION:Annual Strawberry Festival Hambugers. Hot Dogs\, and Sausage Homemade Salads Strawberry Shortcake and Ice cream Music
X-ALT-DESC;FMTTYPE=text/html:Annual Strawberry Festival Hambugers. Hot Dogs\, and Sausage Homemade Salads Strawberry Shortcake and Ice cream Music
LOCATION:Depauville United Methodist Church State Rt.12 Depauville\, Ny
UID:e.1171.10829
SEQUENCE:3
DTSTAMP:20260423T223518Z
URL:http://business.watertownny.com/events/details/depauville-united-methodist-church-strawberry-festival-10829
END:VEVENT

END:VCALENDAR
