BEGIN:VCALENDAR
VERSION:2.0
PRODID:-//ChamberMaster//Event Calendar 2.0//EN
METHOD:PUBLISH
X-PUBLISHED-TTL:P3D
REFRESH-INTERVAL:P3D
CALSCALE:GREGORIAN
BEGIN:VEVENT
DTSTART:20260801T150000Z
DTEND:20260801T200000Z
X-MICROSOFT-CDO-ALLDAYEVENT:FALSE
SUMMARY:Jefferson County Kids Expo 2026
DESCRIPTION:Jefferson County Kids Expo 2026: A day of family fun and discovery you won't want to miss! Bring the whole family for an exciting\, interactive day filled with fun\, learning\, and community connection! The Jefferson County Kids Expo is packed with activities for all ages and so many chances to play\, explore\, and discover together. What to expect:   Vendors and Community Organizations   Lots of FREE activities and giveaways for the whole family   Interactive games\, hands-on experiences\, and live entertainment   CASA's Colossal Auction & Raffle with amazing prizes you won't want to miss. Admission:   $5 for ages 13 and up   FREE for ages 12 and under. Wristbands:   KidZone Wristband   $10   SportZone Wristband   $10   Both Wristbands   2 for $15 (best deal!) Date: August 1\, 2026 Time: 11:00 AM   4:00 PM Location: Watertown Municipal Arena    From free fun and exciting vendors to the KidZone\, SportZone\, and CASA's Colossal Auction & Raffle\, there's truly something for everyone. Mark your calendars\, invite your friends\, and join us for a full day of family fun in Jefferson County!
X-ALT-DESC;FMTTYPE=text/html:Jefferson County Kids Expo 2026: A day of family fun and discovery you won&rsquo\;t want to miss! Bring the whole family for an exciting\, interactive day filled with fun\, learning\, and community connection! The Jefferson County Kids Expo is packed with activities for all ages and so many chances to play\, explore\, and discover together. What to expect: &bull\; Vendors and Community Organizations &bull\; Lots of FREE activities and giveaways for the whole family &bull\; Interactive games\, hands-on experiences\, and live entertainment &bull\; CASA&rsquo\;s Colossal Auction &amp\; Raffle with amazing prizes you won&rsquo\;t want to miss. Admission: &bull\; $5 for ages 13 and up &bull\; FREE for ages 12 and under. Wristbands: &bull\; KidZone Wristband &ndash\; $10 &bull\; SportZone Wristband &ndash\; $10 &bull\; Both Wristbands &ndash\; 2 for $15 (best deal!) Date: August 1\, 2026 Time: 11:00 AM &ndash\; 4:00 PM Location: Watertown Municipal Arena &ndash\;&nbsp\; From free fun and exciting vendors to the KidZone\, SportZone\, and CASA&rsquo\;s Colossal Auction &amp\; Raffle\, there&rsquo\;s truly something for everyone. Mark your calendars\, invite your friends\, and join us for a full day of family fun in Jefferson County!
LOCATION:Watertown Municipal Arena 600 William T. Field Drive\, Watertown
UID:e.1171.12891
SEQUENCE:3
DTSTAMP:20260420T202625Z
URL:http://business.watertownny.com/events/details/jefferson-county-kids-expo-2026-12891
END:VEVENT

END:VCALENDAR
