BEGIN:VCALENDAR
VERSION:2.0
PRODID:-//ChamberMaster//Event Calendar 2.0//EN
METHOD:PUBLISH
X-PUBLISHED-TTL:P3D
REFRESH-INTERVAL:P3D
CALSCALE:GREGORIAN
BEGIN:VEVENT
DTSTART:20240827T170000Z
DTEND:20240827T180000Z
X-MICROSOFT-CDO-ALLDAYEVENT:FALSE
SUMMARY:Summer Kids Klub
DESCRIPTION:Salmon Run Mall is thrilled to announce the return of the Summer Kids Klub\, set to take place on the 2nd and 4th Tuesdays of July and August. This exciting event will kick off at 1 p.m. at the head of the Food Court\, promising a summer of fun-filled activities for children of all ages! Supported by a coalition of nonprofit community groups and mall tenants\, this year's Summer Kids Klub aims to provide a safe and engaging environment for children throughout the summer months. Participants can look forward to a variety of games\, activities\, and surprises each session. The Summer Kids Klub is free and open to the public. Parents and guardians are encouraged to bring their children to the Food Court area on the designated Tuesdays to participate in the festivities. Detailed information about each session's activities will be available closer to the event dates on the Salmon Run Mall website and social channels.
X-ALT-DESC;FMTTYPE=text/html:Salmon Run Mall is thrilled to announce the return of the Summer Kids Klub\, set to take place on the 2nd and 4th Tuesdays of July and August. This exciting event will kick off at 1 p.m. at the head of the Food Court\, promising a summer of fun-filled activities for children of all ages! Supported by a coalition of nonprofit community groups and mall tenants\, this year&rsquo\;s Summer Kids Klub aims to provide a safe and engaging environment for children throughout the summer months. Participants can look forward to a variety of games\, activities\, and surprises each session. The Summer Kids Klub is free and open to the public. Parents and guardians are encouraged to bring their children to the Food Court area on the designated Tuesdays to participate in the festivities. Detailed information about each session&rsquo\;s activities will be available closer to the event dates on the Salmon Run Mall website and social channels.
LOCATION:Salmon Run Mall - head of Food Court
UID:e.1171.12608
SEQUENCE:3
DTSTAMP:20260419T195442Z
URL:http://business.watertownny.com/events/details/summer-kids-klub-08-27-2024-12608
END:VEVENT

END:VCALENDAR
