BEGIN:VCALENDAR
VERSION:2.0
PRODID:-//ChamberMaster//Event Calendar 2.0//EN
METHOD:PUBLISH
X-PUBLISHED-TTL:P3D
REFRESH-INTERVAL:P3D
CALSCALE:GREGORIAN
BEGIN:VEVENT
DTSTART:20180915T130000Z
DTEND:20180915T150000Z
X-MICROSOFT-CDO-ALLDAYEVENT:FALSE
SUMMARY:4th Annual Backpack Run 5k/10k
DESCRIPTION:The 4th Annual Backpack Run is a professionally timed 5k/10k fundraiser on Saturday September 15th in Theresa\, NY. All proceeds benefit The Backpack Program at Indian River CSD. Every entry fee helps feed local families in need and reduce hunger in our community- this event raised over $10\,000 in the past three years\; help us reach our goal of $4\,000 in our fourth year! The 5k and 10k both start at 9am\; discounts available for under 18\, teams of six\, and military participants. Pre-register by September 13th at www.thebackpackrun.com 5k ($20) or 10k ($25) or on race day 5k or 10k ($30). All abilities welcome- come enjoy the live music on the route\, prizes for top runners\, and five water stations on a beautiful scenic route!
X-ALT-DESC;FMTTYPE=text/html:The 4th Annual Backpack Run is a professionally timed 5k/10k fundraiser on Saturday September 15th in Theresa\, NY. All proceeds benefit The Backpack Program at Indian River CSD. Every entry fee helps feed local families in need and reduce hunger in our community- this event raised over $10\,000 in the past three years\; help us reach our goal of $4\,000 in our fourth year! The 5k and 10k both start at 9am\; discounts available for under 18\, teams of six\, and military participants. Pre-register by September 13th at www.thebackpackrun.com 5k ($20) or 10k ($25) or on race day 5k or 10k ($30). All abilities welcome- come enjoy the live music on the route\, prizes for top runners\, and five water stations on a beautiful scenic route!
LOCATION:Theresa Primary School at 125 Bridge Street\, Theresa NY 13691
UID:e.1171.9236
SEQUENCE:3
DTSTAMP:20260424T213958Z
URL:https://business.watertownny.com/events/details/4th-annual-backpack-run-5k-10k-9236
END:VEVENT

END:VCALENDAR
