BEGIN:VCALENDAR
VERSION:2.0
PRODID:-//ChamberMaster//Event Calendar 2.0//EN
METHOD:PUBLISH
X-PUBLISHED-TTL:P3D
REFRESH-INTERVAL:P3D
CALSCALE:GREGORIAN
BEGIN:VEVENT
DTSTART:20250521T130000Z
DTEND:20250528T040000Z
X-MICROSOFT-CDO-ALLDAYEVENT:FALSE
SUMMARY:Amazing Burger Challenge
DESCRIPTION:Get ready for a delicious adventure! ?? Join ABC 50 and North Country CW for the Amazing Burger Challenge from May 21st to May 28th. Twenty local restaurants will be serving up their specialty North Country burgers for just $9.00\, all to support the North Country Library Systems Summer Reading Programs. You can participate in two exciting ways: cast your vote for the most popular burger and see which local business wins the prestigious Golden Burger Award from our panel of judges. It's a fantastic opportunity to bring your family\, friends\, and colleagues along to taste each burger and raise awareness for a great cause. Don't miss out on this fun and tasty event! ????
X-ALT-DESC;FMTTYPE=text/html:Get ready for a delicious adventure! ?? Join ABC 50 and North Country CW for the Amazing Burger Challenge from May 21st to May 28th. Twenty local restaurants will be serving up their specialty North Country burgers for just $9.00\, all to support the North Country Library Systems Summer Reading Programs. You can participate in two exciting ways: cast your vote for the most popular burger and see which local business wins the prestigious Golden Burger Award from our panel of judges. It&#39\;s a fantastic opportunity to bring your family\, friends\, and colleagues along to taste each burger and raise awareness for a great cause. Don&#39\;t miss out on this fun and tasty event! ????
LOCATION:Nu Pier\, Bad Apple\, Full Circle Bar and Grill\, Empire Square\, The Crystal\, City Dawgz\, Church Street Diner\, and many more!
UID:e.1171.12763
SEQUENCE:3
DTSTAMP:20260422T103745Z
URL:https://business.watertownny.com/events/details/amazing-burger-challenge-12763
END:VEVENT

END:VCALENDAR
