BEGIN:VCALENDAR
VERSION:2.0
PRODID:-//ChamberMaster//Event Calendar 2.0//EN
METHOD:PUBLISH
X-PUBLISHED-TTL:P3D
REFRESH-INTERVAL:P3D
CALSCALE:GREGORIAN
BEGIN:VEVENT
DTSTART:20210914T210000Z
DTEND:20211030T220000Z
X-MICROSOFT-CDO-ALLDAYEVENT:FALSE
SUMMARY:CLOVERBUD SCIENCE
DESCRIPTION:The Cloverbud Science program is a 6-week program for Jefferson County youth ages 6-8. Meetings will be on Tuesdays at Cornell Cooperative Extension of Jefferson County. Youth will explore basic science concepts through fun experiments and games. Topics covered will include chemistry\, sound\, motion\, and computer science. Follow the link below to register: https://pub.cce.cornell.edu/event_registration/main/events_landing.cfm?event=CloverbudScience-_222
X-ALT-DESC;FMTTYPE=text/html:The Cloverbud Science program is a 6-week program for Jefferson County youth ages 6-8. Meetings will be on Tuesdays at Cornell Cooperative Extension of Jefferson County. Youth will explore basic science concepts through fun experiments and games. Topics covered will include chemistry\, sound\, motion\, and computer science. Follow the link below to register: https://pub.cce.cornell.edu/event_registration/main/events_landing.cfm?event=CloverbudScience-_222
LOCATION:Cornell Cooperative Extension of Jefferson County 203 North Hamilton Street Watertown\, NY 13601
UID:e.1171.10860
SEQUENCE:3
DTSTAMP:20260424T182459Z
URL:https://business.watertownny.com/events/details/cloverbud-science-10860
END:VEVENT

END:VCALENDAR
