BEGIN:VCALENDAR
VERSION:2.0
PRODID:-//ChamberMaster//Event Calendar 2.0//EN
METHOD:PUBLISH
X-PUBLISHED-TTL:P3D
REFRESH-INTERVAL:P3D
CALSCALE:GREGORIAN
BEGIN:VEVENT
DTSTART:20200218T200000Z
DTEND:20200219T010000Z
X-MICROSOFT-CDO-ALLDAYEVENT:FALSE
SUMMARY:Human Resources 101 for Managers
DESCRIPTION:Designed for new managers or those needing a refresher on labor law requirements. Additional topics include difficult conversations\, discipline procedures and improving the performance management process.
X-ALT-DESC;FMTTYPE=text/html:Designed for new managers or those needing a refresher on labor law requirements. Additional topics include difficult conversations\, discipline procedures and improving the performance management process.
LOCATION:Workshop Location Key: CED: Jefferson Community College Campus\, 1220 Coffeen Street\, Watertown LCJ: Lewis County Jefferson Community College Education Center\, 7395 East Road\, Lowville\, NY (unless otherwise noted)
UID:e.1171.10189
SEQUENCE:3
DTSTAMP:20260423T105121Z
URL:https://business.watertownny.com/events/details/human-resources-101-for-managers-10189
END:VEVENT

END:VCALENDAR
