BEGIN:VCALENDAR
VERSION:2.0
PRODID:-//ChamberMaster//Event Calendar 2.0//EN
METHOD:PUBLISH
X-PUBLISHED-TTL:P3D
REFRESH-INTERVAL:P3D
CALSCALE:GREGORIAN
BEGIN:VEVENT
DTSTART:20211105T220000Z
DTEND:20211106T000000Z
X-MICROSOFT-CDO-ALLDAYEVENT:FALSE
SUMMARY:N. West Moss Book Reading/Signing
DESCRIPTION:N. West Moss\, who has just released her second boo\, Flesh and Blood\, will be doing a reading from her book\, answering questions\, and signing copies available for purchase the evening of the event.
X-ALT-DESC;FMTTYPE=text/html:N. West Moss\, who has just released her second boo\, Flesh and Blood\, will be doing a reading from her book\, answering questions\, and signing copies available for purchase the evening of the event.
LOCATION:Fibonacci Art Gallery 100 Court Street Watertown\, New York
UID:e.1171.10919
SEQUENCE:3
DTSTAMP:20260424T153342Z
URL:https://business.watertownny.com/events/details/n-west-moss-book-reading-signing-10919
END:VEVENT

END:VCALENDAR
